BEGIN:VCALENDAR
VERSION:2.0
PRODID:-//Mid-FL Regional Manufacturers Association - ECPv6.15.13//NONSGML v1.0//EN
CALSCALE:GREGORIAN
METHOD:PUBLISH
X-WR-CALNAME:Mid-FL Regional Manufacturers Association
X-ORIGINAL-URL:https://mrmafl.com
X-WR-CALDESC:Events for Mid-FL Regional Manufacturers Association
REFRESH-INTERVAL;VALUE=DURATION:PT1H
X-Robots-Tag:noindex
X-PUBLISHED-TTL:PT1H
BEGIN:VTIMEZONE
TZID:America/New_York
BEGIN:DAYLIGHT
TZOFFSETFROM:-0500
TZOFFSETTO:-0400
TZNAME:EDT
DTSTART:20240310T070000
END:DAYLIGHT
BEGIN:STANDARD
TZOFFSETFROM:-0400
TZOFFSETTO:-0500
TZNAME:EST
DTSTART:20241103T060000
END:STANDARD
BEGIN:DAYLIGHT
TZOFFSETFROM:-0500
TZOFFSETTO:-0400
TZNAME:EDT
DTSTART:20250309T070000
END:DAYLIGHT
BEGIN:STANDARD
TZOFFSETFROM:-0400
TZOFFSETTO:-0500
TZNAME:EST
DTSTART:20251102T060000
END:STANDARD
BEGIN:DAYLIGHT
TZOFFSETFROM:-0500
TZOFFSETTO:-0400
TZNAME:EDT
DTSTART:20260308T070000
END:DAYLIGHT
BEGIN:STANDARD
TZOFFSETFROM:-0400
TZOFFSETTO:-0500
TZNAME:EST
DTSTART:20261101T060000
END:STANDARD
BEGIN:DAYLIGHT
TZOFFSETFROM:-0500
TZOFFSETTO:-0400
TZNAME:EDT
DTSTART:20270314T070000
END:DAYLIGHT
BEGIN:STANDARD
TZOFFSETFROM:-0400
TZOFFSETTO:-0500
TZNAME:EST
DTSTART:20271107T060000
END:STANDARD
END:VTIMEZONE
BEGIN:VEVENT
DTSTART;TZID=America/New_York:20260416T113000
DTEND;TZID=America/New_York:20260416T130000
DTSTAMP:20260420T102556
CREATED:20251226T201259Z
LAST-MODIFIED:20251226T201259Z
UID:2621-1776339000-1776344400@mrmafl.com
SUMMARY:MRMA General Meeting & Tour
DESCRIPTION:Just us as we tour the Withlacoochee Technical College
URL:https://mrmafl.com/event/mrma-general-meeting-tour-3/
LOCATION:Withlacoochee Technical College\, 1201 W. Main Street\, Inverness\, fl\, 34450
CATEGORIES:Tours
END:VEVENT
BEGIN:VEVENT
DTSTART;TZID=America/New_York:20260212T113000
DTEND;TZID=America/New_York:20260212T130000
DTSTAMP:20260420T102556
CREATED:20251226T195235Z
LAST-MODIFIED:20260123T191550Z
UID:2610-1770895800-1770901200@mrmafl.com
SUMMARY:MRMA General Meeting & Tour
DESCRIPTION:Join us for a general meeting and tour of Monterey & Blackfin Boats.
URL:https://mrmafl.com/event/mrma-general-meeting-tour-2/
LOCATION:Monterey & Blackfin Boats\, 1579 SW 18th Street\, Williston\, FL\, 32696
CATEGORIES:Tours
ORGANIZER;CN="Mid-FL Regional Manufacturers Assoc.":MAILTO:director@mrmafl.com
END:VEVENT
BEGIN:VEVENT
DTSTART;TZID=America/New_York:20260115T113000
DTEND;TZID=America/New_York:20260115T130000
DTSTAMP:20260420T102556
CREATED:20251226T194338Z
LAST-MODIFIED:20251226T195332Z
UID:2605-1768476600-1768482000@mrmafl.com
SUMMARY:MRMA General Meeting & Tour
DESCRIPTION:Please join us for a MRMA general meeting & tour of Hale Products.
URL:https://mrmafl.com/event/mrma-general-meeting-tour/
LOCATION:Hale Products\, Inc.\, 607 NW 27th Avenue\, Ocala\, FL\, 34475\, United States
CATEGORIES:Tours
END:VEVENT
BEGIN:VEVENT
DTSTART;TZID=America/New_York:20250814T113000
DTEND;TZID=America/New_York:20250814T130000
DTSTAMP:20260420T102556
CREATED:20250502T153926Z
LAST-MODIFIED:20250502T153926Z
UID:2320-1755171000-1755176400@mrmafl.com
SUMMARY:Tour of Cardinal Glass LG
DESCRIPTION:
URL:https://mrmafl.com/event/tour-of-cardinal-glass-lg/
LOCATION:Cardinal LG\, 1300 SW 44th Ave.\, Ocala\, FL\, 34474\, United States
CATEGORIES:Tours
ORGANIZER;CN="Mid-FL Regional Manufacturers Assoc.":MAILTO:director@mrmafl.com
END:VEVENT
BEGIN:VEVENT
DTSTART;TZID=America/New_York:20250612T113000
DTEND;TZID=America/New_York:20250612T130000
DTSTAMP:20260420T102556
CREATED:20250502T153443Z
LAST-MODIFIED:20250502T153443Z
UID:2314-1749727800-1749733200@mrmafl.com
SUMMARY:Tour of Custom Window Systems
DESCRIPTION:
URL:https://mrmafl.com/event/tour-of-custom-window-systems/
LOCATION:Custom Window Systems\, 1900 SW 44th Avenue\, Ocala\, FL\, 34474\, United States
CATEGORIES:Tours
END:VEVENT
END:VCALENDAR