BEGIN:VCALENDAR
VERSION:2.0
PRODID:-//Mid-FL Regional Manufacturers Association - ECPv6.15.13//NONSGML v1.0//EN
CALSCALE:GREGORIAN
METHOD:PUBLISH
X-ORIGINAL-URL:https://mrmafl.com
X-WR-CALDESC:Events for Mid-FL Regional Manufacturers Association
REFRESH-INTERVAL;VALUE=DURATION:PT1H
X-Robots-Tag:noindex
X-PUBLISHED-TTL:PT1H
BEGIN:VTIMEZONE
TZID:America/New_York
BEGIN:DAYLIGHT
TZOFFSETFROM:-0500
TZOFFSETTO:-0400
TZNAME:EDT
DTSTART:20240310T070000
END:DAYLIGHT
BEGIN:STANDARD
TZOFFSETFROM:-0400
TZOFFSETTO:-0500
TZNAME:EST
DTSTART:20241103T060000
END:STANDARD
BEGIN:DAYLIGHT
TZOFFSETFROM:-0500
TZOFFSETTO:-0400
TZNAME:EDT
DTSTART:20250309T070000
END:DAYLIGHT
BEGIN:STANDARD
TZOFFSETFROM:-0400
TZOFFSETTO:-0500
TZNAME:EST
DTSTART:20251102T060000
END:STANDARD
BEGIN:DAYLIGHT
TZOFFSETFROM:-0500
TZOFFSETTO:-0400
TZNAME:EDT
DTSTART:20260308T070000
END:DAYLIGHT
BEGIN:STANDARD
TZOFFSETFROM:-0400
TZOFFSETTO:-0500
TZNAME:EST
DTSTART:20261101T060000
END:STANDARD
BEGIN:DAYLIGHT
TZOFFSETFROM:-0500
TZOFFSETTO:-0400
TZNAME:EDT
DTSTART:20270314T070000
END:DAYLIGHT
BEGIN:STANDARD
TZOFFSETFROM:-0400
TZOFFSETTO:-0500
TZNAME:EST
DTSTART:20271107T060000
END:STANDARD
END:VTIMEZONE
BEGIN:VEVENT
DTSTART;TZID=America/New_York:20260218T150000
DTEND;TZID=America/New_York:20260218T170000
DTSTAMP:20260423T193554
CREATED:20251226T195504Z
LAST-MODIFIED:20251226T195811Z
UID:2613-1771426800-1771434000@mrmafl.com
SUMMARY:Quality & Safety Forum 1 - FMEA (Failure Modes & Effects Analysis
DESCRIPTION:
URL:https://mrmafl.com/event/quality-safety-forum-1-fmea-failure-modes-effects-analysis/
CATEGORIES:Forums
END:VEVENT
BEGIN:VEVENT
DTSTART;TZID=America/New_York:20251119T153000
DTEND;TZID=America/New_York:20251119T153000
DTSTAMP:20260423T193554
CREATED:20250502T152355Z
LAST-MODIFIED:20251104T173713Z
UID:2307-1763566200-1763566200@mrmafl.com
SUMMARY:Leadership Forum- Canceled. Please Attend Learning Series on Nov. 13
DESCRIPTION:
URL:https://mrmafl.com/event/leadership-forum-3/
CATEGORIES:Forums
ORGANIZER;CN="Mid-FL Regional Manufacturers Assoc.":MAILTO:director@mrmafl.com
END:VEVENT
BEGIN:VEVENT
DTSTART;TZID=America/New_York:20251022T150000
DTEND;TZID=America/New_York:20251022T163000
DTSTAMP:20260423T193554
CREATED:20250502T152317Z
LAST-MODIFIED:20250916T223734Z
UID:2305-1761145200-1761150600@mrmafl.com
SUMMARY:Quality Forum
DESCRIPTION:
URL:https://mrmafl.com/event/quality-forum-2/
LOCATION:College of Central FL\, Ewers Center (Bldg. 40) Room 203
CATEGORIES:Forums
ORGANIZER;CN="Mid-FL Regional Manufacturers Assoc.":MAILTO:director@mrmafl.com
END:VEVENT
BEGIN:VEVENT
DTSTART;TZID=America/New_York:20250917T150000
DTEND;TZID=America/New_York:20250917T163000
DTSTAMP:20260423T193554
CREATED:20250502T152237Z
LAST-MODIFIED:20250916T223825Z
UID:2303-1758121200-1758126600@mrmafl.com
SUMMARY:Safety Forum
DESCRIPTION:
URL:https://mrmafl.com/event/safety-forum-2/
LOCATION:College of Central FL\, Ewers Center (Bldg. 40) Room 203
CATEGORIES:Forums
ORGANIZER;CN="Mid-FL Regional Manufacturers Assoc.":MAILTO:director@mrmafl.com
END:VEVENT
BEGIN:VEVENT
DTSTART;TZID=America/New_York:20250820T150000
DTEND;TZID=America/New_York:20250820T163000
DTSTAMP:20260423T193554
CREATED:20250502T152156Z
LAST-MODIFIED:20250502T152156Z
UID:2301-1755702000-1755707400@mrmafl.com
SUMMARY:Leadership Forum
DESCRIPTION:
URL:https://mrmafl.com/event/leadership-forum-2/
LOCATION:College of Central Florida\, Bldg. 9 Room 110\, 3001 SW College Road\, Bldg. 9 Room 110 Room\, Ocala\, FL\, 34474\, United States
CATEGORIES:Forums
ORGANIZER;CN="Mid-FL Regional Manufacturers Assoc.":MAILTO:director@mrmafl.com
END:VEVENT
BEGIN:VEVENT
DTSTART;TZID=America/New_York:20250716T000000
DTEND;TZID=America/New_York:20250716T000000
DTSTAMP:20260423T193554
CREATED:20250502T152039Z
LAST-MODIFIED:20250712T142224Z
UID:2299-1752624000-1752624000@mrmafl.com
SUMMARY:Quality Forum - CANCELLED
DESCRIPTION:
URL:https://mrmafl.com/event/quality-forum/
LOCATION:College of Central Florida\, Bldg. 9 Room 110\, 3001 SW College Road\, Bldg. 9 Room 110 Room\, Ocala\, FL\, 34474\, United States
CATEGORIES:Forums
ORGANIZER;CN="Mid-FL Regional Manufacturers Assoc.":MAILTO:director@mrmafl.com
END:VEVENT
BEGIN:VEVENT
DTSTART;TZID=America/New_York:20250618T150000
DTEND;TZID=America/New_York:20250618T163000
DTSTAMP:20260423T193554
CREATED:20250502T151942Z
LAST-MODIFIED:20250502T151942Z
UID:2297-1750258800-1750264200@mrmafl.com
SUMMARY:Safety Forum
DESCRIPTION:
URL:https://mrmafl.com/event/safety-forum/
LOCATION:College of Central Florida\, Bldg. 9 Room 110\, 3001 SW College Road\, Bldg. 9 Room 110 Room\, Ocala\, FL\, 34474\, United States
CATEGORIES:Forums
ORGANIZER;CN="Mid-FL Regional Manufacturers Assoc.":MAILTO:director@mrmafl.com
END:VEVENT
BEGIN:VEVENT
DTSTART;TZID=America/New_York:20250521T150000
DTEND;TZID=America/New_York:20250521T163000
DTSTAMP:20260423T193554
CREATED:20250502T151628Z
LAST-MODIFIED:20250502T151628Z
UID:2292-1747839600-1747845000@mrmafl.com
SUMMARY:Leadership Forum
DESCRIPTION:
URL:https://mrmafl.com/event/leadership-forum/
LOCATION:College of Central Florida\, Bldg. 9 Room 110\, 3001 SW College Road\, Bldg. 9 Room 110 Room\, Ocala\, FL\, 34474\, United States
CATEGORIES:Forums
ORGANIZER;CN="Mid-FL Regional Manufacturers Assoc.":MAILTO:director@mrmafl.com
END:VEVENT
END:VCALENDAR